BEGIN:VCALENDAR
VERSION:2.0
PRODID:-//Sumak Kawsay - Schweizer Shop für zeremoniellen Kakao - ECPv6.15.20//NONSGML v1.0//EN
CALSCALE:GREGORIAN
METHOD:PUBLISH
X-WR-CALNAME:Sumak Kawsay - Schweizer Shop für zeremoniellen Kakao
X-ORIGINAL-URL:https://sumak-kawsay.ch
X-WR-CALDESC:Veranstaltungen für Sumak Kawsay - Schweizer Shop für zeremoniellen Kakao
REFRESH-INTERVAL;VALUE=DURATION:PT1H
X-Robots-Tag:noindex
X-PUBLISHED-TTL:PT1H
BEGIN:VTIMEZONE
TZID:Europe/Berlin
BEGIN:DAYLIGHT
TZOFFSETFROM:+0100
TZOFFSETTO:+0200
TZNAME:CEST
DTSTART:20250330T010000
END:DAYLIGHT
BEGIN:STANDARD
TZOFFSETFROM:+0200
TZOFFSETTO:+0100
TZNAME:CET
DTSTART:20251026T010000
END:STANDARD
BEGIN:DAYLIGHT
TZOFFSETFROM:+0100
TZOFFSETTO:+0200
TZNAME:CEST
DTSTART:20260329T010000
END:DAYLIGHT
BEGIN:STANDARD
TZOFFSETFROM:+0200
TZOFFSETTO:+0100
TZNAME:CET
DTSTART:20261025T010000
END:STANDARD
BEGIN:DAYLIGHT
TZOFFSETFROM:+0100
TZOFFSETTO:+0200
TZNAME:CEST
DTSTART:20270328T010000
END:DAYLIGHT
BEGIN:STANDARD
TZOFFSETFROM:+0200
TZOFFSETTO:+0100
TZNAME:CET
DTSTART:20271031T010000
END:STANDARD
END:VTIMEZONE
BEGIN:VEVENT
DTSTART;TZID=Europe/Berlin:20260503T170000
DTEND;TZID=Europe/Berlin:20260503T190000
DTSTAMP:20260420T104825
CREATED:20250203T131333Z
LAST-MODIFIED:20260319T091941Z
UID:3496-1777827600-1777834800@sumak-kawsay.ch
SUMMARY:Into Bloom
DESCRIPTION:Ein Abend für Körper und Herz\n\n\n\nDieser Abend ist eine Einladung\, aus dem Funktionieren auszusteigen und wieder in Kontakt mit deinem Körper zu kommen. Mit sanftem Yoga\, zeremoniellem Kakao und mit Liedern aus aller Welt darfst du dich nähren\, öffnen und spüren\, was in dir wachsen möchte – während draussen die ersten Vorboten des Sommers spürbar werden. \n\n\n\n  Ein Abend zum Ankommen – bei dir\, in deinem Herzraum. \n\n\n\nHier gibt es weitere Infos zu Melodis Yoga und die Möglichkeit zur Kursbuchung: https://terrayoga.ch
URL:https://sumak-kawsay.ch/veranstaltung/yogaundkakao/
LOCATION:Rösslisaal Trogen\, Hinterdorf 5\, Trogen\, Appenzell Ausserrhoden\, 9043\, Switzerland
END:VEVENT
END:VCALENDAR